BEGIN:VCALENDAR
VERSION:2.0
PRODID:-//Impacting Cities - ECPv6.15.19//NONSGML v1.0//EN
CALSCALE:GREGORIAN
METHOD:PUBLISH
X-WR-CALNAME:Impacting Cities
X-ORIGINAL-URL:https://arlington.impactingcitiestx.com
X-WR-CALDESC:Events for Impacting Cities
REFRESH-INTERVAL;VALUE=DURATION:PT1H
X-Robots-Tag:noindex
X-PUBLISHED-TTL:PT1H
BEGIN:VTIMEZONE
TZID:America/Denver
BEGIN:DAYLIGHT
TZOFFSETFROM:-0700
TZOFFSETTO:-0600
TZNAME:MDT
DTSTART:20250309T090000
END:DAYLIGHT
BEGIN:STANDARD
TZOFFSETFROM:-0600
TZOFFSETTO:-0700
TZNAME:MST
DTSTART:20251102T080000
END:STANDARD
BEGIN:DAYLIGHT
TZOFFSETFROM:-0700
TZOFFSETTO:-0600
TZNAME:MDT
DTSTART:20260308T090000
END:DAYLIGHT
BEGIN:STANDARD
TZOFFSETFROM:-0600
TZOFFSETTO:-0700
TZNAME:MST
DTSTART:20261101T080000
END:STANDARD
BEGIN:DAYLIGHT
TZOFFSETFROM:-0700
TZOFFSETTO:-0600
TZNAME:MDT
DTSTART:20270314T090000
END:DAYLIGHT
BEGIN:STANDARD
TZOFFSETFROM:-0600
TZOFFSETTO:-0700
TZNAME:MST
DTSTART:20271107T080000
END:STANDARD
END:VTIMEZONE
BEGIN:VEVENT
DTSTART;TZID=America/Denver:20260302T180000
DTEND;TZID=America/Denver:20260302T200000
DTSTAMP:20260422T115252
CREATED:20260202T215308Z
LAST-MODIFIED:20260202T215909Z
UID:2533-1772474400-1772481600@arlington.impactingcitiestx.com
SUMMARY:Impact Meet & Greet
DESCRIPTION:What Better Way To Meet the Impact Family/Community\nThis is your chance to get to meet one another and have a little fun.  Here you’ll meet Business Owners\, Non-Profit Founders and everyday members.  We’ll share  how to get the most out of Impact and our community.  After which you’ll be able to mingle and share who you are and what you don’t with others.  It’ll be a fun evening of community in action. Meet and Greet will be held the first 1st of each month\, location will be announced. \nStay Tuned!
URL:https://arlington.impactingcitiestx.com/event/impact-meet-greet/
ATTACH;FMTTYPE=image/jpeg:https://arlington.impactingcitiestx.com/wp-content/uploads/2026/02/Impact-Group.jpg
END:VEVENT
BEGIN:VEVENT
DTSTART;TZID=America/Denver:20260315T180000
DTEND;TZID=America/Denver:20260315T200000
DTSTAMP:20260422T115252
CREATED:20260202T224146Z
LAST-MODIFIED:20260205T181854Z
UID:2540-1773597600-1773604800@arlington.impactingcitiestx.com
SUMMARY:Impact Businesses Action Meeting
DESCRIPTION:This is not your typcial networking event.\nCome out and join our Business Owners in action.  Learn how we use the Impact Platform to plug your business into our community to help it grown.  Here we don’t just talk we strategize on how to get the community to come to you.  Want do give-back?  Done. Want to do a special promotion? Done.  Want to partner with another business?  Let’s talk about it.  No more coming out and leaving with a hand full of business cards.  Leaving know you’ve done something constructive to help your business grow. \nDo your part and we’ll do our. This event will be held on the 15th of each month\, location to be announced.
URL:https://arlington.impactingcitiestx.com/event/businesses-action-meeting/
ATTACH;FMTTYPE=image/jpeg:https://arlington.impactingcitiestx.com/wp-content/uploads/2026/02/marco-bianchetti-JLS3I_cYx-k-unsplash-scaled.jpg
END:VEVENT
BEGIN:VEVENT
DTSTART;VALUE=DATE:20260321
DTEND;VALUE=DATE:20260322
DTSTAMP:20260422T115252
CREATED:20260125T175735Z
LAST-MODIFIED:20260127T144054Z
UID:2298-1774051200-1774137599@arlington.impactingcitiestx.com
SUMMARY:Impact's Day Of Family Fun - Coming Soon
DESCRIPTION:Coming Soon!\nLife at times can be full of stress.  It’s time to get out\, release some stress and have some fun.  On the 3rd Saturday of each month Impact members will get out and have some fun at a different venue each month.  Stay tuned for more details as we make this happe.
URL:https://arlington.impactingcitiestx.com/event/impacts-day-of-fun-coming-soon/
ATTACH;FMTTYPE=image/jpeg:https://arlington.impactingcitiestx.com/wp-content/uploads/2026/01/Impacts-Day-of-Fun.jpg
END:VEVENT
BEGIN:VEVENT
DTSTART;TZID=America/Denver:20260425T090000
DTEND;TZID=America/Denver:20260425T120000
DTSTAMP:20260422T115252
CREATED:20260417T134150Z
LAST-MODIFIED:20260417T134150Z
UID:2754-1777107600-1777118400@arlington.impactingcitiestx.com
SUMMARY:Arlington ISD Teacher Job Fair
DESCRIPTION:Overview\n\n\n\n\nLooking to kickstart your teaching career? Come meet Arlington ISD and find your next classroom adventure! \n\n\n\n\nReady to teach where you’re truly supported? \nAt Arlington ISD\, we don’t just hire great teachers. We grow them\, support them\, and believe in them from day one. \nJoin us at our Teacher Job Fair and connect with school leaders who want to meet you! Whether you’re already certified or just starting your journey\, this is your chance to explore a district that invests in educators. \nWho Should Attend? \nThis event is for passionate educators ready to make a difference in the classroom. \nIf you’re certified: \nCome ready to interview! Bring your resume and a copy of your Texas Teaching Certification or Statement of Eligibility as many schools will be interviewing on the spot. \nIf you’re not certified yet: \nNo problem! Representatives from Alternative Certification Programs (ACP) will be there to: \n\nGuide you through certification\nAnswer your questions\nHelp you take the next step towards becoming a teacher\n\nYou don’t need to have it all figured out. Just bring your heart and we’ll help with the rest. \nWhat to Expect \n\nMeet principals and school leaders across the district\nLearn about current teaching openings\, including roles in special education\, fine arts\, athletics\, and world languages\nOn-site interviews for select positions\nOne-on-one time with ACP advisors\nReal conversations about what makes Arlington ISD different\n\nThis is not just another job fair. It’s your chance to find a school community where you can grow\, thrive\, and belong. \nWhy Arlington ISD? \nWe believe great teachers deserve: \n\nPay that respects your experience\nMentorship that helps you grow\nSupport that lasts beyond the first year\nA positive\, professional culture\n\nWe’re not just hiring. We’re building a future—together. \nYou don’t have to wait for the job fair to get started. Apply today at aisd.net/jobs \nIf you’re interested in multiple roles\, be sure to apply to each one that fits your skills and interests. \nSpots are limited. \nRegister now and take the next step in your teaching journey. We can’t wait to meet you!
URL:https://arlington.impactingcitiestx.com/event/arlington-isd-teacher-job-fair/
ATTACH;FMTTYPE=image/jpeg:https://arlington.impactingcitiestx.com/wp-content/uploads/2026/04/Teacher-Job-Fair.jpg
END:VEVENT
END:VCALENDAR