BEGIN:VCALENDAR
VERSION:2.0
PRODID:-//Impacting Cities - ECPv6.15.19//NONSGML v1.0//EN
CALSCALE:GREGORIAN
METHOD:PUBLISH
X-ORIGINAL-URL:https://arlington.impactingcitiestx.com
X-WR-CALDESC:Events for Impacting Cities
REFRESH-INTERVAL;VALUE=DURATION:PT1H
X-Robots-Tag:noindex
X-PUBLISHED-TTL:PT1H
BEGIN:VTIMEZONE
TZID:America/Denver
BEGIN:DAYLIGHT
TZOFFSETFROM:-0700
TZOFFSETTO:-0600
TZNAME:MDT
DTSTART:20250309T090000
END:DAYLIGHT
BEGIN:STANDARD
TZOFFSETFROM:-0600
TZOFFSETTO:-0700
TZNAME:MST
DTSTART:20251102T080000
END:STANDARD
BEGIN:DAYLIGHT
TZOFFSETFROM:-0700
TZOFFSETTO:-0600
TZNAME:MDT
DTSTART:20260308T090000
END:DAYLIGHT
BEGIN:STANDARD
TZOFFSETFROM:-0600
TZOFFSETTO:-0700
TZNAME:MST
DTSTART:20261101T080000
END:STANDARD
BEGIN:DAYLIGHT
TZOFFSETFROM:-0700
TZOFFSETTO:-0600
TZNAME:MDT
DTSTART:20270314T090000
END:DAYLIGHT
BEGIN:STANDARD
TZOFFSETFROM:-0600
TZOFFSETTO:-0700
TZNAME:MST
DTSTART:20271107T080000
END:STANDARD
END:VTIMEZONE
BEGIN:VEVENT
DTSTART;VALUE=DATE:20260209
DTEND;VALUE=DATE:20260210
DTSTAMP:20260422T171341
CREATED:20260125T173124Z
LAST-MODIFIED:20260206T141948Z
UID:2296-1770595200-1770681599@arlington.impactingcitiestx.com
SUMMARY:Impact's Day Of Giving
DESCRIPTION:Here’s your chance to make an Impact in the local community and the world around us.\nEach month Impact will support a local Non-Profit in the Impact family with a donation of time or monies. $5 -$10 it all adds up. This month we’re supporting Arlington Urban Ministries. You can contact them directly to volunteer your time or make a cash donation on the link below.\nLet’s show the world we live up to our name. If you have any questions or concerns don’t hesitate to drop a line.\n\nDONATE: https://arlingtonum.ejoinme.org/…/tabid/87484/Default.aspx\n\nhttps://arlingtonurbanministries.org/\n\n                      
URL:https://arlington.impactingcitiestx.com/event/impacts-day-of-giving/
ATTACH;FMTTYPE=image/jpeg:https://arlington.impactingcitiestx.com/wp-content/uploads/2026/01/Impacts-Day-of-Giving.jpg
END:VEVENT
END:VCALENDAR